Workbook
Name cHeader2: #REF!
Name cHeader3: #REF!
Name cHeader4: #REF!
Name cHeader6: #REF!
Name cRText: #REF!
Name cRTextN: #REF!
Name Detail: #REF!
Name Header: #REF!
Name Hidden: #REF!
Name MakePage: 20
Name MPageCount: 21
Name nGraf3_1: #REF!
Name nGraf3_2: #REF!
Name nGraf4_1: #REF!
Name nGraf4_2: #REF!
Name nGraf5_1: #REF!
Name nGraf5_2: #REF!
Name nGraf6_1: #REF!
Name nGraf6_2: #REF!
Name nGrafa1: #REF!
Name nGrafa2_2: #REF!
Name nGrafa3_1: #REF!
Name nGrafa3_2: #REF!
Name nGrafa4_1: #REF!
Name nGrafa4_2: #REF!
Name nGrafa5_1: #REF!
Name nGrafa5_2: #REF!
Name nGrafa6_1: #REF!
Name nGrafa6_2: #REF!
Name nTotal_2_2: #REF!
Name nTotal_3_1: #REF!
Name nTotal_3_2: #REF!
Name nTotal_4_1: #REF!
Name nTotal_4_2: #REF!
Name nTotal_5_1: #REF!
Name nTotal_5_2: #REF!
Name nTotal_6_1: #REF!
Name nTotal_6_2: #REF!
Name nTotal1_2_2: #REF!
Name nTotal1_3_1: #REF!
Name nTotal1_3_2: #REF!
Name nTotal1_4_1: #REF!
Name nTotal1_4_2: #REF!
Name nTotal1_5_1: #REF!
Name nTotal1_5_2: #REF!
Name nTotal1_6_1: #REF!
Name nTotal1_6_2: #REF!
Name nTotal2_2_2: #REF!
Name nTotal2_3_1: #REF!
Name nTotal2_3_2: #REF!
Name nTotal2_4_1: #REF!
Name nTotal2_4_2: #REF!
Name nTotal2_5_1: #REF!
Name nTotal2_5_2: #REF!
Name nTotal2_6_1: #REF!
Name nTotal2_6_2: #REF!
Name nTotal3_2_1: #REF!
Name nTotal3_3_1: #REF!
Name nTotal3_3_2: #REF!
Name nTotal3_4_1: #REF!

Sheet Лист1
A1: КНП "Міська дитяча поліклініка №2 " ХМР
A3: (назва установи)
A5: Ідентифікаційний
A6: код ЄДРПОУ | B6: 31886847
A8: ЗАЛИШКИ МЕДИЧНИХ ЗАСОБІВ
A9: станом на 01 вересня 2026 р.
A11: № рядка | B11: Найменування | C11: Одиниця виміру | D11: Ціна | E11: Залишок на 01.09.2026
E12: кількість | F12: сума
A14: 201
A15: 1 | B15: НЗ Марля | C15: м | D15: 0,02 | E15: 700 | F15: 11.62 | G15: =#REF! -> #REF! | H15: =#REF! -> #REF! | I15: =#REF! -> #REF! | J15: =#REF! -> #REF! | K15: =#REF! -> #REF! | L15: =#REF! -> #REF! | M15: =E15 -> 700 | N15: =F15 -> 11.62
A16: 201/1
A17: 1 | B17: NeoCleanPro Мило рідке "Весняні квіти", 5л ПЕТ | C17: шт | D17: 170 | E17: 24 | F17: 4080 | G17: =#REF! -> #REF! | H17: =#REF! -> #REF! | I17: =#REF! -> #REF! | J17: =#REF! -> #REF! | K17: =#REF! -> #REF! | L17: =#REF! -> #REF! | M17: =E17 -> 24 | N17: =F17 -> 4080
A18: 2 | B18: Азотна кислота, хч | C18: кг | D18: 97,69 | E18: 0.65 | F18: 63.5 | G18: =#REF! -> #REF! | H18: =#REF! -> #REF! | I18: =#REF! -> #REF! | J18: =#REF! -> #REF! | K18: =#REF! -> #REF! | L18: =#REF! -> #REF! | M18: =E18 -> 0.65 | N18: =F18 -> 63.5
A19: 3 | B19: Бинт 7*14 | C19: шт | D19: 10,35 | E19: 1 | F19: 10.35 | G19: =#REF! -> #REF! | H19: =#REF! -> #REF! | I19: =#REF! -> #REF! | J19: =#REF! -> #REF! | K19: =#REF! -> #REF! | L19: =#REF! -> #REF! | M19: =E19 -> 1 | N19: =F19 -> 10.35
A20: 4 | B20: Бинт марлевий мед. н/ст 7м*14см | C20: шт | D20: 10,42 | E20: 210 | F20: 2188.2 | G20: =#REF! -> #REF! | H20: =#REF! -> #REF! | I20: =#REF! -> #REF! | J20: =#REF! -> #REF! | K20: =#REF! -> #REF! | L20: =#REF! -> #REF! | M20: =E20 -> 210 | N20: =F20 -> 2188.2
A21: 5 | B21: Брильянтовий зелений р-н д/зовн.спирт.1% 20мл | C21: фл | D21: 29,44 | E21: 5 | F21: 147.18 | G21: =#REF! -> #REF! | H21: =#REF! -> #REF! | I21: =#REF! -> #REF! | J21: =#REF! -> #REF! | K21: =#REF! -> #REF! | L21: =#REF! -> #REF! | M21: =E21 -> 5 | N21: =F21 -> 147.18
A22: 6 | B22: Вакуумна пробірка 5мл, без наповнювача, червона 13х100мм ПЕТ | C22: шт. | D22: 2,70 | E22: 100 | F22: 270 | G22: =#REF! -> #REF! | H22: =#REF! -> #REF! | I22: =#REF! -> #REF! | J22: =#REF! -> #REF! | K22: =#REF! -> #REF! | L22: =#REF! -> #REF! | M22: =E22 -> 100 | N22: =F22 -> 270
A23: 7 | B23: Вата | C23: кг | D23: 148,67 | E23: 22.026 | F23: 3274.56 | G23: =#REF! -> #REF! | H23: =#REF! -> #REF! | I23: =#REF! -> #REF! | J23: =#REF! -> #REF! | K23: =#REF! -> #REF! | L23: =#REF! -> #REF! | M23: =E23 -> 22.026 | N23: =F23 -> 3274.56
A24: 8 | B24: Гель електропровідний для ЕКГ/ЕЕГ/ЕМГ 1000гр | C24: уп | D24: 78 | E24: 5 | F24: 390 | G24: =#REF! -> #REF! | H24: =#REF! -> #REF! | I24: =#REF! -> #REF! | J24: =#REF! -> #REF! | K24: =#REF! -> #REF! | L24: =#REF! -> #REF! | M24: =E24 -> 5 | N24: =F24 -> 390
A25: 9 | B25: Глюкоза - Ф | C25: наб. | D25: 580 | E25: 5 | F25: 2900 | G25: =#REF! -> #REF! | H25: =#REF! -> #REF! | I25: =#REF! -> #REF! | J25: =#REF! -> #REF! | K25: =#REF! -> #REF! | L25: =#REF! -> #REF! | M25: =E25 -> 5 | N25: =F25 -> 2900
A26: 10 | B26: Голки для взяття венозної крові 22Gх1,5мм 0,7х38мм стер. | C26: шт | D26: 7 | E26: 100 | F26: 700 | G26: =#REF! -> #REF! | H26: =#REF! -> #REF! | I26: =#REF! -> #REF! | J26: =#REF! -> #REF! | K26: =#REF! -> #REF! | L26: =#REF! -> #REF! | M26: =E26 -> 100 | N26: =F26 -> 700
A27: 11 | B27: Діагностичні тест-смужки Citolab 11М для аналізу сечі | C27: шт. | D27: 9,94 | E27: 3000 | F27: 29820 | G27: =#REF! -> #REF! | H27: =#REF! -> #REF! | I27: =#REF! -> #REF! | J27: =#REF! -> #REF! | K27: =#REF! -> #REF! | L27: =#REF! -> #REF! | M27: =E27 -> 3000 | N27: =F27 -> 29820
A28: 12 | B28: Діагностичний моноклональний реагент Анти-А | C28: фл | D28: 111,63 | E28: 4 | F28: 446.5 | G28: =#REF! -> #REF! | H28: =#REF! -> #REF! | I28: =#REF! -> #REF! | J28: =#REF! -> #REF! | K28: =#REF! -> #REF! | L28: =#REF! -> #REF! | M28: =E28 -> 4 | N28: =F28 -> 446.5
A29: 13 | B29: Діагностичний моноклональний реагент Анти-А (10мл) | C29: фл | D29: 130 | E29: 7 | F29: 910 | G29: =#REF! -> #REF! | H29: =#REF! -> #REF! | I29: =#REF! -> #REF! | J29: =#REF! -> #REF! | K29: =#REF! -> #REF! | L29: =#REF! -> #REF! | M29: =E29 -> 7 | N29: =F29 -> 910
A30: 14 | B30: Діагностичний моноклональний реагент Анти-В | C30: фл | D30: 111,63 | E30: 4 | F30: 446.5 | G30: =#REF! -> #REF! | H30: =#REF! -> #REF! | I30: =#REF! -> #REF! | J30: =#REF! -> #REF! | K30: =#REF! -> #REF! | L30: =#REF! -> #REF! | M30: =E30 -> 4 | N30: =F30 -> 446.5
A31: 15 | B31: Діагностичний моноклональний реагент Анти-В (10мл) | C31: фл | D31: 130 | E31: 7 | F31: 910 | G31: =#REF! -> #REF! | H31: =#REF! -> #REF! | I31: =#REF! -> #REF! | J31: =#REF! -> #REF! | K31: =#REF! -> #REF! | L31: =#REF! -> #REF! | M31: =E31 -> 7 | N31: =F31 -> 910
A32: 16 | B32: Діагностичний моноклональний реагент Анти-Д | C32: фл | D32: 311,10 | E32: 4 | F32: 1244.4 | G32: =#REF! -> #REF! | H32: =#REF! -> #REF! | I32: =#REF! -> #REF! | J32: =#REF! -> #REF! | K32: =#REF! -> #REF! | L32: =#REF! -> #REF! | M32: =E32 -> 4 | N32: =F32 -> 1244.4
A33: 17 | B33: Діагностичний моноклональний реагент Анти-Д (10мл) | C33: фл | D33: 345 | E33: 7 | F33: 2415 | G33: =#REF! -> #REF! | H33: =#REF! -> #REF! | I33: =#REF! -> #REF! | J33: =#REF! -> #REF! | K33: =#REF! -> #REF! | L33: =#REF! -> #REF! | M33: =E33 -> 7 | N33: =F33 -> 2415
A34: 18 | B34: Джгут кровоспинний | C34: шт. | D34: 67 | E34: 22 | F34: 1474 | G34: =#REF! -> #REF! | H34: =#REF! -> #REF! | I34: =#REF! -> #REF! | J34: =#REF! -> #REF! | K34: =#REF! -> #REF! | L34: =#REF! -> #REF! | M34: =E34 -> 22 | N34: =F34 -> 1474
A35: 19 | B35: Димедрол р-н д/ін 10мг/мл 1мл | C35: амп | D35: 3,07 | E35: 30 | F35: 92.05 | G35: =#REF! -> #REF! | H35: =#REF! -> #REF! | I35: =#REF! -> #REF! | J35: =#REF! -> #REF! | K35: =#REF! -> #REF! | L35: =#REF! -> #REF! | M35: =E35 -> 30 | N35: =F35 -> 92.05
A36: 20 | B36: Еуфілін р-н д/ін 20мг/мл 5мл | C36: амп | D36: 5,20 | E36: 20 | F36: 104.09 | G36: =#REF! -> #REF! | H36: =#REF! -> #REF! | I36: =#REF! -> #REF! | J36: =#REF! -> #REF! | K36: =#REF! -> #REF! | L36: =#REF! -> #REF! | M36: =E36 -> 20 | N36: =F36 -> 104.09
A37: 21 | B37: Засіб дезінфікуючий "Бланідас 2000 експрес" 1000мл з дозуючим пристр. | C37: л | D37: 220,90 | E37: 362 | F37: 79965.8 | G37: =#REF! -> #REF! | H37: =#REF! -> #REF! | I37: =#REF! -> #REF! | J37: =#REF! -> #REF! | K37: =#REF! -> #REF! | L37: =#REF! -> #REF! | M37: =E37 -> 362 | N37: =F37 -> 79965.8
A38: 22 | B38: Засіб дезінфекційний "Неостерил Рапід Блу" 1л флакон з помпою | C38: шт | D38: 402 | E38: 1 | F38: 402 | G38: =#REF! -> #REF! | H38: =#REF! -> #REF! | I38: =#REF! -> #REF! | J38: =#REF! -> #REF! | K38: =#REF! -> #REF! | L38: =#REF! -> #REF! | M38: =E38 -> 1 | N38: =F38 -> 402
A39: 23 | B39: Контейнер Біобокс 5л + | C39: шт | D39: 42,50 | E39: 25 | F39: 1062.5 | G39: =#REF! -> #REF! | H39: =#REF! -> #REF! | I39: =#REF! -> #REF! | J39: =#REF! -> #REF! | K39: =#REF! -> #REF! | L39: =#REF! -> #REF! | M39: =E39 -> 25 | N39: =F39 -> 1062.5
A40: 24 | B40: Контейнер картонний для збору голок та медичних відходів (інфекц.небезп.відходів) 5л | C40: шт | D40: 53,64 | E40: 300 | F40: 16092 | G40: =#REF! -> #REF! | H40: =#REF! -> #REF! | I40: =#REF! -> #REF! | J40: =#REF! -> #REF! | K40: =#REF! -> #REF! | L40: =#REF! -> #REF! | M40: =E40 -> 300 | N40: =F40 -> 16092
A41: 25 | B41: Контрольний матеріал СВС-3D 2мл | C41: шт | D41: 2476,36 | E41: 10 | F41: 24763.64 | G41: =#REF! -> #REF! | H41: =#REF! -> #REF! | I41: =#REF! -> #REF! | J41: =#REF! -> #REF! | K41: =#REF! -> #REF! | L41: =#REF! -> #REF! | M41: =E41 -> 10 | N41: =F41 -> 24763.64
A42: 26 | B42: Ланцет (автоматичний) Medlance plus Extra стерильн. Голка 21G, 2,4мм | C42: шт | D42: 7,76 | E42: 4649 | F42: 36064.62 | G42: =#REF! -> #REF! | H42: =#REF! -> #REF! | I42: =#REF! -> #REF! | J42: =#REF! -> #REF! | K42: =#REF! -> #REF! | L42: =#REF! -> #REF! | M42: =E42 -> 4649 | N42: =F42 -> 36064.62
A43: 27 | B43: Ланцет (скарифікатор) для прокол. пристр. 30G | C43: шт | D43: 2,19 | E43: 120 | F43: 263.1 | G43: =#REF! -> #REF! | H43: =#REF! -> #REF! | I43: =#REF! -> #REF! | J43: =#REF! -> #REF! | K43: =#REF! -> #REF! | L43: =#REF! -> #REF! | M43: =E43 -> 120 | N43: =F43 -> 263.1
A44: 28 | B44: Ланцет Droplet персон., однораз.використ., стерильн. ультратонкі 30G (0,31мм) STREFA | C44: шт | D44: 1,61 | E44: 400 | F44: 642 | G44: =#REF! -> #REF! | H44: =#REF! -> #REF! | I44: =#REF! -> #REF! | J44: =#REF! -> #REF! | K44: =#REF! -> #REF! | L44: =#REF! -> #REF! | M44: =E44 -> 400 | N44: =F44 -> 642
A45: 29 | B45: Маска медична 3-шар на резинці н/ст | C45: шт. | D45: 1,49 | E45: 6969 | F45: 10412.65 | G45: =#REF! -> #REF! | H45: =#REF! -> #REF! | I45: =#REF! -> #REF! | J45: =#REF! -> #REF! | K45: =#REF! -> #REF! | L45: =#REF! -> #REF! | M45: =E45 -> 6969 | N45: =F45 -> 10412.65
A46: 30 | B46: Метиленовий (блакитний) синій | C46: кг | D46: 10527,50 | E46: 0.144 | F46: 1515.96 | G46: =#REF! -> #REF! | H46: =#REF! -> #REF! | I46: =#REF! -> #REF! | J46: =#REF! -> #REF! | K46: =#REF! -> #REF! | L46: =#REF! -> #REF! | M46: =E46 -> 0.144 | N46: =F46 -> 1515.96
A47: 31 | B47: Натр.лимоннокисл.3 зам. 2-х водний | C47: кг | D47: 207,63 | E47: 1.2 | F47: 249.15 | G47: =#REF! -> #REF! | H47: =#REF! -> #REF! | I47: =#REF! -> #REF! | J47: =#REF! -> #REF! | K47: =#REF! -> #REF! | L47: =#REF! -> #REF! | M47: =E47 -> 1.2 | N47: =F47 -> 249.15
A48: 32 | B48: Натрій лимоннокислий 3 зам. 2-х водний | C48: кг | D48: 270 | E48: 1 | F48: 270 | G48: =#REF! -> #REF! | H48: =#REF! -> #REF! | I48: =#REF! -> #REF! | J48: =#REF! -> #REF! | K48: =#REF! -> #REF! | L48: =#REF! -> #REF! | M48: =E48 -> 1 | N48: =F48 -> 270
A49: 33 | B49: Натрію хлорид р-н д/ін 9мг/мл 5мл | C49: амп | D49: 4,95 | E49: 10 | F49: 49.47 | G49: =#REF! -> #REF! | H49: =#REF! -> #REF! | I49: =#REF! -> #REF! | J49: =#REF! -> #REF! | K49: =#REF! -> #REF! | L49: =#REF! -> #REF! | M49: =E49 -> 10 | N49: =F49 -> 49.47
A50: 34 | B50: Натрію хлорид р-н д/ін 9мг/мл по 400мл в пляшках скляних | C50: шт. | D50: 23,26 | E50: 6 | F50: 139.57 | G50: =#REF! -> #REF! | H50: =#REF! -> #REF! | I50: =#REF! -> #REF! | J50: =#REF! -> #REF! | K50: =#REF! -> #REF! | L50: =#REF! -> #REF! | M50: =E50 -> 6 | N50: =F50 -> 139.57
A51: 35 | B51: Очисник для периферичної крові (50мл) | C51: шт | D51: 1250 | E51: 10 | F51: 12500 | G51: =#REF! -> #REF! | H51: =#REF! -> #REF! | I51: =#REF! -> #REF! | J51: =#REF! -> #REF! | K51: =#REF! -> #REF! | L51: =#REF! -> #REF! | M51: =E51 -> 10 | N51: =F51 -> 12500
A52: 36 | B52: Очисник ферментативний (50мл) | C52: шт | D52: 1227,78 | E52: 17 | F52: 20872.22 | G52: =#REF! -> #REF! | H52: =#REF! -> #REF! | I52: =#REF! -> #REF! | J52: =#REF! -> #REF! | K52: =#REF! -> #REF! | L52: =#REF! -> #REF! | M52: =E52 -> 17 | N52: =F52 -> 20872.22
A53: 37 | B53: Пакети п/е 70*100*50 мкм | C53: шт | D53: 17,20 | E53: 27 | F53: 464.4 | G53: =#REF! -> #REF! | H53: =#REF! -> #REF! | I53: =#REF! -> #REF! | J53: =#REF! -> #REF! | K53: =#REF! -> #REF! | L53: =#REF! -> #REF! | M53: =E53 -> 27 | N53: =F53 -> 464.4
A54: 38 | B54: Папаверин-Дарниця р-н д/ін 20мг/мл 2мл | C54: амп | D54: 4,80 | E54: 18 | F54: 86.43 | G54: =#REF! -> #REF! | H54: =#REF! -> #REF! | I54: =#REF! -> #REF! | J54: =#REF! -> #REF! | K54: =#REF! -> #REF! | L54: =#REF! -> #REF! | M54: =E54 -> 18 | N54: =F54 -> 86.43
A55: 39 | B55: Парацетамол табл. 200мг | C55: таб | D55: 0,79 | E55: 23 | F55: 18.23 | G55: =#REF! -> #REF! | H55: =#REF! -> #REF! | I55: =#REF! -> #REF! | J55: =#REF! -> #REF! | K55: =#REF! -> #REF! | L55: =#REF! -> #REF! | M55: =E55 -> 23 | N55: =F55 -> 18.23
A56: 40 | B56: Перекис водню розчин 3% 100мл | C56: фл | D56: 7,39 | E56: 4 | F56: 29.56 | G56: =#REF! -> #REF! | H56: =#REF! -> #REF! | I56: =#REF! -> #REF! | J56: =#REF! -> #REF! | K56: =#REF! -> #REF! | L56: =#REF! -> #REF! | M56: =E56 -> 4 | N56: =F56 -> 29.56
A57: 41 | B57: Перекису водню розчин 3% 100мл | C57: фл | D57: 27,14 | E57: 10 | F57: 271.35 | G57: =#REF! -> #REF! | H57: =#REF! -> #REF! | I57: =#REF! -> #REF! | J57: =#REF! -> #REF! | K57: =#REF! -> #REF! | L57: =#REF! -> #REF! | M57: =E57 -> 10 | N57: =F57 -> 271.35
A58: 42 | B58: Пластир бактерицидний "Волес" 1,9х5,5 на п/е основі з малюнком | C58: шт | D58: 0,70 | E58: 9129 | F58: 6390.3 | G58: =#REF! -> #REF! | H58: =#REF! -> #REF! | I58: =#REF! -> #REF! | J58: =#REF! -> #REF! | K58: =#REF! -> #REF! | L58: =#REF! -> #REF! | M58: =E58 -> 9129 | N58: =F58 -> 6390.3
A59: 43 | B59: Пластир мед."Волес" 2смх5м на нетк.осн. | C59: шт. | D59: 11,75 | E59: 15 | F59: 176.25 | G59: =#REF! -> #REF! | H59: =#REF! -> #REF! | I59: =#REF! -> #REF! | J59: =#REF! -> #REF! | K59: =#REF! -> #REF! | L59: =#REF! -> #REF! | M59: =E59 -> 15 | N59: =F59 -> 176.25
A60: 44 | B60: Пластир хірургічний "Волес" на паперовій основі 2,5смх9,14м | C60: шт. | D60: 25,20 | E60: 4 | F60: 100.8 | G60: =#REF! -> #REF! | H60: =#REF! -> #REF! | I60: =#REF! -> #REF! | J60: =#REF! -> #REF! | K60: =#REF! -> #REF! | L60: =#REF! -> #REF! | M60: =E60 -> 4 | N60: =F60 -> 100.8
A61: 45 | B61: Пристрій для вливання кровозамінників та інфузійних розчинів однораз.використання ПР, з регулятором потоку, стерильний | C61: шт. | D61: 50 | E61: 20 | F61: 1000 | G61: =#REF! -> #REF! | H61: =#REF! -> #REF! | I61: =#REF! -> #REF! | J61: =#REF! -> #REF! | K61: =#REF! -> #REF! | L61: =#REF! -> #REF! | M61: =E61 -> 20 | N61: =F61 -> 1000
A62: 46 | B62: Простирадло однораз. 25 г/м2 в рул. 0,6х100м | C62: уп | D62: 225 | E62: 6 | F62: 1350 | G62: =#REF! -> #REF! | H62: =#REF! -> #REF! | I62: =#REF! -> #REF! | J62: =#REF! -> #REF! | K62: =#REF! -> #REF! | L62: =#REF! -> #REF! | M62: =E62 -> 6 | N62: =F62 -> 1350
A63: 47 | B63: Простирадло однораз.20 г/м2 Спанбонд з перфорац.в рулонах 0,8х100м | C63: шт | D63: 350 | E63: 10 | F63: 3500 | G63: =#REF! -> #REF! | H63: =#REF! -> #REF! | I63: =#REF! -> #REF! | J63: =#REF! -> #REF! | K63: =#REF! -> #REF! | L63: =#REF! -> #REF! | M63: =E63 -> 10 | N63: =F63 -> 3500
A64: 48 | B64: РАФТ® (дексаметазон) розчин д/ін'єкц. 4мг/мл 2мл | C64: амп | D64: 15,24 | E64: 20 | F64: 304.86 | G64: =#REF! -> #REF! | H64: =#REF! -> #REF! | I64: =#REF! -> #REF! | J64: =#REF! -> #REF! | K64: =#REF! -> #REF! | L64: =#REF! -> #REF! | M64: =E64 -> 20 | N64: =F64 -> 304.86
A65: 49 | B65: Респіратор БУК-3К FFP3 з клапаном | C65: шт | D65: 24 | E65: 1500 | F65: 36000 | G65: =#REF! -> #REF! | H65: =#REF! -> #REF! | I65: =#REF! -> #REF! | J65: =#REF! -> #REF! | K65: =#REF! -> #REF! | L65: =#REF! -> #REF! | M65: =E65 -> 1500 | N65: =F65 -> 36000
A66: 50 | B66: Розчин лізуючий (500мл) | C66: шт | D66: 3900 | E66: 12 | F66: 46800 | G66: =#REF! -> #REF! | H66: =#REF! -> #REF! | I66: =#REF! -> #REF! | J66: =#REF! -> #REF! | K66: =#REF! -> #REF! | L66: =#REF! -> #REF! | M66: =E66 -> 12 | N66: =F66 -> 46800
A67: 51 | B67: Розчинник (20л) | C67: шт | D67: 3985,45 | E67: 1 | F67: 3985.45 | G67: =#REF! -> #REF! | H67: =#REF! -> #REF! | I67: =#REF! -> #REF! | J67: =#REF! -> #REF! | K67: =#REF! -> #REF! | L67: =#REF! -> #REF! | M67: =E67 -> 1 | N67: =F67 -> 3985.45
A68: 52 | B68: Рукавички нітрилові оглядові н/с неопудр. (manual® УН120 ультра) | C68: пар | D68: 2,65 | E68: 4000 | F68: 10614.4 | G68: =#REF! -> #REF! | H68: =#REF! -> #REF! | I68: =#REF! -> #REF! | J68: =#REF! -> #REF! | K68: =#REF! -> #REF! | L68: =#REF! -> #REF! | M68: =E68 -> 4000 | N68: =F68 -> 10614.4
A69: 53 | B69: Рукавички оглядові нітрилові н/с н/пр. | C69: пар | D69: 2,46 | E69: 3583 | F69: 8814.18 | G69: =#REF! -> #REF! | H69: =#REF! -> #REF! | I69: =#REF! -> #REF! | J69: =#REF! -> #REF! | K69: =#REF! -> #REF! | L69: =#REF! -> #REF! | M69: =E69 -> 3583 | N69: =F69 -> 8814.18
A70: 54 | B70: Рушники паперові в аркушах ZZ "Кохавинка" 200*230 білі целюлозні (200листів) | C70: шт | D70: 45 | E70: 443 | F70: 19935 | G70: =#REF! -> #REF! | H70: =#REF! -> #REF! | I70: =#REF! -> #REF! | J70: =#REF! -> #REF! | K70: =#REF! -> #REF! | L70: =#REF! -> #REF! | M70: =E70 -> 443 | N70: =F70 -> 19935
A71: 55 | B71: Сальбутамол-Нео інгал.під тиском 100мкг/доза по 12мл/200доз | C71: уп | D71: 81,50 | E71: 11 | F71: 896.53 | G71: =#REF! -> #REF! | H71: =#REF! -> #REF! | I71: =#REF! -> #REF! | J71: =#REF! -> #REF! | K71: =#REF! -> #REF! | L71: =#REF! -> #REF! | M71: =E71 -> 11 | N71: =F71 -> 896.53
A72: 56 | B72: Серветка спиртова однор. №100 | C72: уп | D72: 24,98 | E72: 938 | F72: 23426.94 | G72: =#REF! -> #REF! | H72: =#REF! -> #REF! | I72: =#REF! -> #REF! | J72: =#REF! -> #REF! | K72: =#REF! -> #REF! | L72: =#REF! -> #REF! | M72: =E72 -> 938 | N72: =F72 -> 23426.94
A73: 57 | B73: Серветки у рулоні 20х20 100шт. | C73: шт | D73: 55 | E73: 125 | F73: 6875 | G73: =#REF! -> #REF! | H73: =#REF! -> #REF! | I73: =#REF! -> #REF! | J73: =#REF! -> #REF! | K73: =#REF! -> #REF! | L73: =#REF! -> #REF! | M73: =E73 -> 125 | N73: =F73 -> 6875
A74: 58 | B74: Серветки у рулоні 20х20 100шт. білі гладкі (безворсові) | C74: шт | D74: 55 | E74: 350 | F74: 19250 | G74: =#REF! -> #REF! | H74: =#REF! -> #REF! | I74: =#REF! -> #REF! | J74: =#REF! -> #REF! | K74: =#REF! -> #REF! | L74: =#REF! -> #REF! | M74: =E74 -> 350 | N74: =F74 -> 19250
A75: 59 | B75: Спирт 70% | C75: кг | D75: 275,13 | E75: 0.269 | F75: 74.01 | G75: =#REF! -> #REF! | H75: =#REF! -> #REF! | I75: =#REF! -> #REF! | J75: =#REF! -> #REF! | K75: =#REF! -> #REF! | L75: =#REF! -> #REF! | M75: =E75 -> 0.269 | N75: =F75 -> 74.01
A76: 60 | B76: Стрічка діаграмна 50*20 (16) внутр. | C76: рул. | D76: 36 | E76: 10 | F76: 360 | G76: =#REF! -> #REF! | H76: =#REF! -> #REF! | I76: =#REF! -> #REF! | J76: =#REF! -> #REF! | K76: =#REF! -> #REF! | L76: =#REF! -> #REF! | M76: =E76 -> 10 | N76: =F76 -> 360
A77: 61 | B77: Стрічка діаграмна 50х20 | C77: шт. | D77: 15,48 | E77: 10 | F77: 154.83 | G77: =#REF! -> #REF! | H77: =#REF! -> #REF! | I77: =#REF! -> #REF! | J77: =#REF! -> #REF! | K77: =#REF! -> #REF! | L77: =#REF! -> #REF! | M77: =E77 -> 10 | N77: =F77 -> 154.83
A78: 62 | B78: Тест для виявлення антигенів вірусів грипу А та В | C78: шт | D78: 277,72 | E78: 1 | F78: 277.72 | G78: =#REF! -> #REF! | H78: =#REF! -> #REF! | I78: =#REF! -> #REF! | J78: =#REF! -> #REF! | K78: =#REF! -> #REF! | L78: =#REF! -> #REF! | M78: =E78 -> 1 | N78: =F78 -> 277.72
A79: 63 | B79: Тест смужки діагностичні д/аналізу сечі | C79: шт | D79: 10,23 | E79: 308 | F79: 3149.43 | G79: =#REF! -> #REF! | H79: =#REF! -> #REF! | I79: =#REF! -> #REF! | J79: =#REF! -> #REF! | K79: =#REF! -> #REF! | L79: =#REF! -> #REF! | M79: =E79 -> 308 | N79: =F79 -> 3149.43
A80: 64 | B80: Тест-смужки Easy Touch для глюкометра | C80: шт | D80: 12,10 | E80: 120 | F80: 1452 | G80: =#REF! -> #REF! | H80: =#REF! -> #REF! | I80: =#REF! -> #REF! | J80: =#REF! -> #REF! | K80: =#REF! -> #REF! | L80: =#REF! -> #REF! | M80: =E80 -> 120 | N80: =F80 -> 1452
A81: 65 | B81: Тримач (холдер) "Волес" для вакуумних пробірок | C81: шт | D81: 2,12 | E81: 100 | F81: 212 | G81: =#REF! -> #REF! | H81: =#REF! -> #REF! | I81: =#REF! -> #REF! | J81: =#REF! -> #REF! | K81: =#REF! -> #REF! | L81: =#REF! -> #REF! | M81: =E81 -> 100 | N81: =F81 -> 212
A82: 66 | B82: Туберкулін БІОЛІК ППД-Л, р-н д/ін. з активн. 2ТО/доза, по 1мл (10доз) в амп. | C82: доз | D82: 29,11 | E82: 450 | F82: 13101.14 | G82: =#REF! -> #REF! | H82: =#REF! -> #REF! | I82: =#REF! -> #REF! | J82: =#REF! -> #REF! | K82: =#REF! -> #REF! | L82: =#REF! -> #REF! | M82: =E82 -> 450 | N82: =F82 -> 13101.14
A83: 67 | B83: Ультрачутливий тест на вагітність Ultra | C83: шт. | D83: 63,80 | E83: 1 | F83: 63.8 | G83: =#REF! -> #REF! | H83: =#REF! -> #REF! | I83: =#REF! -> #REF! | J83: =#REF! -> #REF! | K83: =#REF! -> #REF! | L83: =#REF! -> #REF! | M83: =E83 -> 1 | N83: =F83 -> 63.8
A84: 68 | B84: ФілоНорм КС | C84: фл | D84: 336 | E84: 13 | F84: 4368 | G84: =#REF! -> #REF! | H84: =#REF! -> #REF! | I84: =#REF! -> #REF! | J84: =#REF! -> #REF! | K84: =#REF! -> #REF! | L84: =#REF! -> #REF! | M84: =E84 -> 13 | N84: =F84 -> 4368
A85: 69 | B85: Фарбник по Романовському (розчин) 1000мл | C85: л. | D85: 630 | E85: 5 | F85: 3150 | G85: =#REF! -> #REF! | H85: =#REF! -> #REF! | I85: =#REF! -> #REF! | J85: =#REF! -> #REF! | K85: =#REF! -> #REF! | L85: =#REF! -> #REF! | M85: =E85 -> 5 | N85: =F85 -> 3150
A86: 70 | B86: Фарбник по Романовському 1000мл | C86: л. | D86: 537,83 | E86: 4.3 | F86: 2312.69 | G86: =#REF! -> #REF! | H86: =#REF! -> #REF! | I86: =#REF! -> #REF! | J86: =#REF! -> #REF! | K86: =#REF! -> #REF! | L86: =#REF! -> #REF! | M86: =E86 -> 4.3 | N86: =F86 -> 2312.69
A87: 71 | B87: Фарбник-фіксатор по Май-Грюнвальду, (розчин) 1000мл | C87: л. | D87: 630 | E87: 5 | F87: 3150 | G87: =#REF! -> #REF! | H87: =#REF! -> #REF! | I87: =#REF! -> #REF! | J87: =#REF! -> #REF! | K87: =#REF! -> #REF! | L87: =#REF! -> #REF! | M87: =E87 -> 5 | N87: =F87 -> 3150
A88: 72 | B88: Фарбник-фіксатор по Май-Грюнвальду, 1000мл | C88: л. | D88: 515,59 | E88: 4.2 | F88: 2165.47 | G88: =#REF! -> #REF! | H88: =#REF! -> #REF! | I88: =#REF! -> #REF! | J88: =#REF! -> #REF! | K88: =#REF! -> #REF! | L88: =#REF! -> #REF! | M88: =E88 -> 4.2 | N88: =F88 -> 2165.47
A89: 73 | B89: Хлоропіраміну гідрохлорид р-н д/ін. 20мг/мл по 1мл в амп. | C89: амп | D89: 20,09 | E89: 15 | F89: 301.29 | G89: =#REF! -> #REF! | H89: =#REF! -> #REF! | I89: =#REF! -> #REF! | J89: =#REF! -> #REF! | K89: =#REF! -> #REF! | L89: =#REF! -> #REF! | M89: =E89 -> 15 | N89: =F89 -> 301.29
A90: 74 | B90: Холестерин-Ф (ферментативно з калібратором) | C90: наб. | D90: 1200 | E90: 1 | F90: 1200 | G90: =#REF! -> #REF! | H90: =#REF! -> #REF! | I90: =#REF! -> #REF! | J90: =#REF! -> #REF! | K90: =#REF! -> #REF! | L90: =#REF! -> #REF! | M90: =E90 -> 1 | N90: =F90 -> 1200
A91: 75 | B91: Шапочка мед.однораз.блакитна | C91: шт | D91: 1,10 | E91: 239 | F91: 262.9 | G91: =#REF! -> #REF! | H91: =#REF! -> #REF! | I91: =#REF! -> #REF! | J91: =#REF! -> #REF! | K91: =#REF! -> #REF! | L91: =#REF! -> #REF! | M91: =E91 -> 239 | N91: =F91 -> 262.9
A92: 76 | B92: Швидкий тест для діагностики стрептококової ангіни | C92: шт | D92: 152,05 | E92: 1 | F92: 152.05 | G92: =#REF! -> #REF! | H92: =#REF! -> #REF! | I92: =#REF! -> #REF! | J92: =#REF! -> #REF! | K92: =#REF! -> #REF! | L92: =#REF! -> #REF! | M92: =E92 -> 1 | N92: =F92 -> 152.05
A93: 77 | B93: Шпатель отоларінгологічний стерильний дерев'яний | C93: шт. | D93: 1,26 | E93: 8900 | F93: 11214 | G93: =#REF! -> #REF! | H93: =#REF! -> #REF! | I93: =#REF! -> #REF! | J93: =#REF! -> #REF! | K93: =#REF! -> #REF! | L93: =#REF! -> #REF! | M93: =E93 -> 8900 | N93: =F93 -> 11214
A94: 78 | B94: Шприц 1.0 3-х компон.туберкулін. з голкою 26G (0,45х13мм) | C94: шт | D94: 2,40 | E94: 261 | F94: 626.4 | G94: =#REF! -> #REF! | H94: =#REF! -> #REF! | I94: =#REF! -> #REF! | J94: =#REF! -> #REF! | K94: =#REF! -> #REF! | L94: =#REF! -> #REF! | M94: =E94 -> 261 | N94: =F94 -> 626.4
A95: 79 | B95: Шприц 10.0 | C95: шт | D95: 2,03 | E95: 129 | F95: 261.68 | G95: =#REF! -> #REF! | H95: =#REF! -> #REF! | I95: =#REF! -> #REF! | J95: =#REF! -> #REF! | K95: =#REF! -> #REF! | L95: =#REF! -> #REF! | M95: =E95 -> 129 | N95: =F95 -> 261.68
A96: 80 | B96: Шприц 2.0 | C96: шт | D96: 1,19 | E96: 7043 | F96: 8370.91 | G96: =#REF! -> #REF! | H96: =#REF! -> #REF! | I96: =#REF! -> #REF! | J96: =#REF! -> #REF! | K96: =#REF! -> #REF! | L96: =#REF! -> #REF! | M96: =E96 -> 7043 | N96: =F96 -> 8370.91
A97: 81 | B97: Шприц 5.0 3-х компон. з голкою | C97: шт | D97: 1,38 | E97: 114 | F97: 157.32 | G97: =#REF! -> #REF! | H97: =#REF! -> #REF! | I97: =#REF! -> #REF! | J97: =#REF! -> #REF! | K97: =#REF! -> #REF! | L97: =#REF! -> #REF! | M97: =E97 -> 114 | N97: =F97 -> 157.32
A98: 82 | B98: Шприц ін'єкційний 2-х компон.однораз. стер. "Alexpharm" 2мл Luer Slip з голкою, 23G (0,6*30мм) | C98: шт | D98: 1,19 | E98: 2000 | F98: 2375.4 | G98: =#REF! -> #REF! | H98: =#REF! -> #REF! | I98: =#REF! -> #REF! | J98: =#REF! -> #REF! | K98: =#REF! -> #REF! | L98: =#REF! -> #REF! | M98: =E98 -> 2000 | N98: =F98 -> 2375.4
A99: 83 | B99: Шприц ін'єкційний 3-х компон.однораз. стер. "Alexpharm" 10мл Luer Slip з голкою, 21G (0,8*40мм) | C99: шт | D99: 1,83 | E99: 500 | F99: 914.85 | G99: =#REF! -> #REF! | H99: =#REF! -> #REF! | I99: =#REF! -> #REF! | J99: =#REF! -> #REF! | K99: =#REF! -> #REF! | L99: =#REF! -> #REF! | M99: =E99 -> 500 | N99: =F99 -> 914.85
A100: 84 | B100: Шприц ін'єкційний 3-х компон.однораз. стер. "Alexpharm" 20мл Luer Slip з голкою, 21G (0,8*40мм) | C100: шт | D100: 2,81 | E100: 50 | F100: 140.71 | G100: =#REF! -> #REF! | H100: =#REF! -> #REF! | I100: =#REF! -> #REF! | J100: =#REF! -> #REF! | K100: =#REF! -> #REF! | L100: =#REF! -> #REF! | M100: =E100 -> 50 | N100: =F100 -> 140.71
A101: 85 | B101: Шприц ін'єкційний 3-х компон.однораз. стер. "Моя аптечка" 5мл Luer Slip з голкою, 22G (0,7*40мм) | C101: шт | D101: 1,22 | E101: 500 | F101: 609.9 | G101: =#REF! -> #REF! | H101: =#REF! -> #REF! | I101: =#REF! -> #REF! | J101: =#REF! -> #REF! | K101: =#REF! -> #REF! | L101: =#REF! -> #REF! | M101: =E101 -> 500 | N101: =F101 -> 609.9
A102: 86 | B102: Шприц ін'єкційний 3-х компон.туберкулінов.однораз. стер. 1мл Luer Slip з голкою, 26G (0,45*13мм) | C102: шт | D102: 1,77 | E102: 1400 | F102: 2471.7 | G102: =#REF! -> #REF! | H102: =#REF! -> #REF! | I102: =#REF! -> #REF! | J102: =#REF! -> #REF! | K102: =#REF! -> #REF! | L102: =#REF! -> #REF! | M102: =E102 -> 1400 | N102: =F102 -> 2471.7
E103: =SUM(Лист1!M16:M102) -> 58892.789 | F103: =SUM(Лист1!N16:N102) -> 510490.89
A104: 201/1ВТОР.
A105: 1 | B105: Adper Single Bond 2 Адгезив | C105: уп | D105: 2029,05 | G105: =#REF! -> #REF! | H105: =#REF! -> #REF! | I105: =#REF! -> #REF! | J105: =#REF! -> #REF! | K105: =#REF! -> #REF! | L105: =#REF! -> #REF! | M105: =E105 -> 0 | N105: =F105 -> 0
...
