Workbook
Name cHeader2: #REF!
Name cHeader3: #REF!
Name cHeader4: #REF!
Name cHeader6: #REF!
Name cRText: #REF!
Name cRTextN: #REF!
Name Detail: #REF!
Name Header: #REF!
Name Hidden: #REF!
Name MakePage: 20
Name MPageCount: 21
Name nGraf3_1: #REF!
Name nGraf3_2: #REF!
Name nGraf4_1: #REF!
Name nGraf4_2: #REF!
Name nGraf5_1: #REF!
Name nGraf5_2: #REF!
Name nGraf6_1: #REF!
Name nGraf6_2: #REF!
Name nGrafa1: #REF!
Name nGrafa2_2: #REF!
Name nGrafa3_1: #REF!
Name nGrafa3_2: #REF!
Name nGrafa4_1: #REF!
Name nGrafa4_2: #REF!
Name nGrafa5_1: #REF!
Name nGrafa5_2: #REF!
Name nGrafa6_1: #REF!
Name nGrafa6_2: #REF!
Name nTotal_2_2: #REF!
Name nTotal_3_1: #REF!
Name nTotal_3_2: #REF!
Name nTotal_4_1: #REF!
Name nTotal_4_2: #REF!
Name nTotal_5_1: #REF!
Name nTotal_5_2: #REF!
Name nTotal_6_1: #REF!
Name nTotal_6_2: #REF!
Name nTotal1_2_2: #REF!
Name nTotal1_3_1: #REF!
Name nTotal1_3_2: #REF!
Name nTotal1_4_1: #REF!
Name nTotal1_4_2: #REF!
Name nTotal1_5_1: #REF!
Name nTotal1_5_2: #REF!
Name nTotal1_6_1: #REF!
Name nTotal1_6_2: #REF!
Name nTotal2_2_2: #REF!
Name nTotal2_3_1: #REF!
Name nTotal2_3_2: #REF!
Name nTotal2_4_1: #REF!
Name nTotal2_4_2: #REF!
Name nTotal2_5_1: #REF!
Name nTotal2_5_2: #REF!
Name nTotal2_6_1: #REF!
Name nTotal2_6_2: #REF!
Name nTotal3_2_1: #REF!
Name nTotal3_3_1: #REF!
Name nTotal3_3_2: #REF!
Name nTotal3_4_1: #REF!

Sheet Лист1
A1: КНП "Міська дитяча поліклініка №2 " ХМР
A3: (назва установи)
A5: Ідентифікаційний
A6: код ЄДРПОУ | B6: 31886847
A8: ЗАЛИШКИ МЕДИЧНИХ ЗАСОБІВ
A9: станом на 01 вересня 2026 р.
A11: № рядка | B11: Найменування | C11: Одиниця виміру | D11: Ціна | E11: Залишок на 01.09.2026
E12: кількість | F12: сума
A14: 201
A15: 1 | B15: НЗ Марля | C15: м | D15: 0,02 | E15: 700 | F15: 11.62 | G15: =#REF! -> #REF! | H15: =#REF! -> #REF! | I15: =#REF! -> #REF! | J15: =#REF! -> #REF! | K15: =#REF! -> #REF! | L15: =#REF! -> #REF! | M15: =E15 -> 700 | N15: =F15 -> 11.62
A16: 201/1
A17: 1 | B17: NeoCleanPro Мило рідке "Весняні квіти", 5л ПЕТ | C17: шт | D17: 170 | E17: 24 | F17: 4080 | G17: =#REF! -> #REF! | H17: =#REF! -> #REF! | I17: =#REF! -> #REF! | J17: =#REF! -> #REF! | K17: =#REF! -> #REF! | L17: =#REF! -> #REF! | M17: =E17 -> 24 | N17: =F17 -> 4080
A18: 2 | B18: Азотна кислота, хч | C18: кг | D18: 97,69 | E18: 0.65 | F18: 63.5 | G18: =#REF! -> #REF! | H18: =#REF! -> #REF! | I18: =#REF! -> #REF! | J18: =#REF! -> #REF! | K18: =#REF! -> #REF! | L18: =#REF! -> #REF! | M18: =E18 -> 0.65 | N18: =F18 -> 63.5
A19: 3 | B19: Бинт 7*14 | C19: шт | D19: 10,35 | E19: 1 | F19: 10.35 | G19: =#REF! -> #REF! | H19: =#REF! -> #REF! | I19: =#REF! -> #REF! | J19: =#REF! -> #REF! | K19: =#REF! -> #REF! | L19: =#REF! -> #REF! | M19: =E19 -> 1 | N19: =F19 -> 10.35
A20: 4 | B20: Бинт марлевий мед. н/ст 7м*14см | C20: шт | D20: 10,42 | E20: 210 | F20: 2188.2 | G20: =#REF! -> #REF! | H20: =#REF! -> #REF! | I20: =#REF! -> #REF! | J20: =#REF! -> #REF! | K20: =#REF! -> #REF! | L20: =#REF! -> #REF! | M20: =E20 -> 210 | N20: =F20 -> 2188.2
A21: 5 | B21: Брильянтовий зелений р-н д/зовн.спирт.1% 20мл | C21: фл | D21: 29,44 | E21: 5 | F21: 147.18 | G21: =#REF! -> #REF! | H21: =#REF! -> #REF! | I21: =#REF! -> #REF! | J21: =#REF! -> #REF! | K21: =#REF! -> #REF! | L21: =#REF! -> #REF! | M21: =E21 -> 5 | N21: =F21 -> 147.18
A22: 6 | B22: Вакуумна пробірка 5мл, без наповнювача, червона 13х100мм ПЕТ | C22: шт. | D22: 2,70 | E22: 100 | F22: 270 | G22: =#REF! -> #REF! | H22: =#REF! -> #REF! | I22: =#REF! -> #REF! | J22: =#REF! -> #REF! | K22: =#REF! -> #REF! | L22: =#REF! -> #REF! | M22: =E22 -> 100 | N22: =F22 -> 270
A23: 7 | B23: Вата | C23: кг | D23: 148,67 | E23: 22.026 | F23: 3274.56 | G23: =#REF! -> #REF! | H23: =#REF! -> #REF! | I23: =#REF! -> #REF! | J23: =#REF! -> #REF! | K23: =#REF! -> #REF! | L23: =#REF! -> #REF! | M23: =E23 -> 22.026 | N23: =F23 -> 3274.56
A24: 8 | B24: Гель електропровідний для ЕКГ/ЕЕГ/ЕМГ 1000гр | C24: уп | D24: 78 | E24: 5 | F24: 390 | G24: =#REF! -> #REF! | H24: =#REF! -> #REF! | I24: =#REF! -> #REF! | J24: =#REF! -> #REF! | K24: =#REF! -> #REF! | L24: =#REF! -> #REF! | M24: =E24 -> 5 | N24: =F24 -> 390
A25: 9 | B25: Глюкоза - Ф | C25: наб. | D25: 580 | E25: 5 | F25: 2900 | G25: =#REF! -> #REF! | H25: =#REF! -> #REF! | I25: =#REF! -> #REF! | J25: =#REF! -> #REF! | K25: =#REF! -> #REF! | L25: =#REF! -> #REF! | M25: =E25 -> 5 | N25: =F25 -> 2900
A26: 10 | B26: Голки для взяття венозної крові 22Gх1,5мм 0,7х38мм стер. | C26: шт | D26: 7 | E26: 100 | F26: 700 | G26: =#REF! -> #REF! | H26: =#REF! -> #REF! | I26: =#REF! -> #REF! | J26: =#REF! -> #REF! | K26: =#REF! -> #REF! | L26: =#REF! -> #REF! | M26: =E26 -> 100 | N26: =F26 -> 700
A27: 11 | B27: Діагностичні тест-смужки Citolab 11М для аналізу сечі | C27: шт. | D27: 9,94 | E27: 3000 | F27: 29820 | G27: =#REF! -> #REF! | H27: =#REF! -> #REF! | I27: =#REF! -> #REF! | J27: =#REF! -> #REF! | K27: =#REF! -> #REF! | L27: =#REF! -> #REF! | M27: =E27 -> 3000 | N27: =F27 -> 29820
A28: 12 | B28: Діагностичний моноклональний реагент Анти-А | C28: фл | D28: 111,63 | E28: 4 | F28: 446.5 | G28: =#REF! -> #REF! | H28: =#REF! -> #REF! | I28: =#REF! -> #REF! | J28: =#REF! -> #REF! | K28: =#REF! -> #REF! | L28: =#REF! -> #REF! | M28: =E28 -> 4 | N28: =F28 -> 446.5
A29: 13 | B29: Діагностичний моноклональний реагент Анти-А (10мл) | C29: фл | D29: 130 | E29: 7 | F29: 910 | G29: =#REF! -> #REF! | H29: =#REF! -> #REF! | I29: =#REF! -> #REF! | J29: =#REF! -> #REF! | K29: =#REF! -> #REF! | L29: =#REF! -> #REF! | M29: =E29 -> 7 | N29: =F29 -> 910
A30: 14 | B30: Діагностичний моноклональний реагент Анти-В | C30: фл | D30: 111,63 | E30: 4 | F30: 446.5 | G30: =#REF! -> #REF! | H30: =#REF! -> #REF! | I30: =#REF! -> #REF! | J30: =#REF! -> #REF! | K30: =#REF! -> #REF! | L30: =#REF! -> #REF! | M30: =E30 -> 4 | N30: =F30 -> 446.5
A31: 15 | B31: Діагностичний моноклональний реагент Анти-В (10мл) | C31: фл | D31: 130 | E31: 7 | F31: 910 | G31: =#REF! -> #REF! | H31: =#REF! -> #REF! | I31: =#REF! -> #REF! | J31: =#REF! -> #REF! | K31: =#REF! -> #REF! | L31: =#REF! -> #REF! | M31: =E31 -> 7 | N31: =F31 -> 910
A32: 16 | B32: Діагностичний моноклональний реагент Анти-Д | C32: фл | D32: 311,10 | E32: 4 | F32: 1244.4 | G32: =#REF! -> #REF! | H32: =#REF! -> #REF! | I32: =#REF! -> #REF! | J32: =#REF! -> #REF! | K32: =#REF! -> #REF! | L32: =#REF! -> #REF! | M32: =E32 -> 4 | N32: =F32 -> 1244.4
A33: 17 | B33: Діагностичний моноклональний реагент Анти-Д (10мл) | C33: фл | D33: 345 | E33: 7 | F33: 2415 | G33: =#REF! -> #REF! | H33: =#REF! -> #REF! | I33: =#REF! -> #REF! | J33: =#REF! -> #REF! | K33: =#REF! -> #REF! | L33: =#REF! -> #REF! | M33: =E33 -> 7 | N33: =F33 -> 2415
A34: 18 | B34: Джгут кровоспинний | C34: шт. | D34: 67 | E34: 22 | F34: 1474 | G34: =#REF! -> #REF! | H34: =#REF! -> #REF! | I34: =#REF! -> #REF! | J34: =#REF! -> #REF! | K34: =#REF! -> #REF! | L34: =#REF! -> #REF! | M34: =E34 -> 22 | N34: =F34 -> 1474
A35: 19 | B35: Димедрол р-н д/ін 10мг/мл 1мл | C35: амп | D35: 3,07 | E35: 30 | F35: 92.05 | G35: =#REF! -> #REF! | H35: =#REF! -> #REF! | I35: =#REF! -> #REF! | J35: =#REF! -> #REF! | K35: =#REF! -> #REF! | L35: =#REF! -> #REF! | M35: =E35 -> 30 | N35: =F35 -> 92.05
A36: 20 | B36: Еуфілін р-н д/ін 20мг/мл 5мл | C36: амп | D36: 5,20 | E36: 20 | F36: 104.09 | G36: =#REF! -> #REF! | H36: =#REF! -> #REF! | I36: =#REF! -> #REF! | J36: =#REF! -> #REF! | K36: =#REF! -> #REF! | L36: =#REF! -> #REF! | M36: =E36 -> 20 | N36: =F36 -> 104.09
A37: 21 | B37: Засіб дезінфікуючий "Бланідас 2000 експрес" 1000мл з дозуючим пристр. | C37: л | D37: 220,90 | E37: 362 | F37: 79965.8 | G37: =#REF! -> #REF! | H37: =#REF! -> #REF! | I37: =#REF! -> #REF! | J37: =#REF! -> #REF! | K37: =#REF! -> #REF! | L37: =#REF! -> #REF! | M37: =E37 -> 362 | N37: =F37 -> 79965.8
A38: 22 | B38: Засіб дезінфекційний "Неостерил Рапід Блу" 1л флакон з помпою | C38: шт | D38: 402 | E38: 1 | F38: 402 | G38: =#REF! -> #REF! | H38: =#REF! -> #REF! | I38: =#REF! -> #REF! | J38: =#REF! -> #REF! | K38: =#REF! -> #REF! | L38: =#REF! -> #REF! | M38: =E38 -> 1 | N38: =F38 -> 402
A39: 23 | B39: Контейнер Біобокс 5л + | C39: шт | D39: 42,50 | E39: 25 | F39: 1062.5 | G39: =#REF! -> #REF! | H39: =#REF! -> #REF! | I39: =#REF! -> #REF! | J39: =#REF! -> #REF! | K39: =#REF! -> #REF! | L39: =#REF! -> #REF! | M39: =E39 -> 25 | N39: =F39 -> 1062.5
A40: 24 | B40: Контейнер картонний для збору голок та медичних відходів (інфекц.небезп.відходів) 5л | C40: шт | D40: 53,64 | E40: 300 | F40: 16092 | G40: =#REF! -> #REF! | H40: =#REF! -> #REF! | I40: =#REF! -> #REF! | J40: =#REF! -> #REF! | K40: =#REF! -> #REF! | L40: =#REF! -> #REF! | M40: =E40 -> 300 | N40: =F40 -> 16092
A41: 25 | B41: Контрольний матеріал СВС-3D 2мл | C41: шт | D41: 2476,36 | E41: 10 | F41: 24763.64 | G41: =#REF! -> #REF! | H41: =#REF! -> #REF! | I41: =#REF! -> #REF! | J41: =#REF! -> #REF! | K41: =#REF! -> #REF! | L41: =#REF! -> #REF! | M41: =E41 -> 10 | N41: =F41 -> 24763.64
A42: 26 | B42: Ланцет (автоматичний) Medlance plus Extra стерильн. Голка 21G, 2,4мм | C42: шт | D42: 7,76 | E42: 4649 | F42: 36064.62 | G42: =#REF! -> #REF! | H42: =#REF! -> #REF! | I42: =#REF! -> #REF! | J42: =#REF! -> #REF! | K42: =#REF! -> #REF! | L42: =#REF! -> #REF! | M42: =E42 -> 4649 | N42: =F42 -> 36064.62
A43: 27 | B43: Ланцет (скарифікатор) для прокол. пристр. 30G | C43: шт | D43: 2,19 | E43: 120 | F43: 263.1 | G43: =#REF! -> #REF! | H43: =#REF! -> #REF! | I43: =#REF! -> #REF! | J43: =#REF! -> #REF! | K43: =#REF! -> #REF! | L43: =#REF! -> #REF! | M43: =E43 -> 120 | N43: =F43 -> 263.1
A44: 28 | B44: Ланцет Droplet персон., однораз.використ., стерильн. ультратонкі 30G (0,31мм) STREFA | C44: шт | D44: 1,61 | E44: 400 | F44: 642 | G44: =#REF! -> #REF! | H44: =#REF! -> #REF! | I44: =#REF! -> #REF! | J44: =#REF! -> #REF! | K44: =#REF! -> #REF! | L44: =#REF! -> #REF! | M44: =E44 -> 400 | N44: =F44 -> 642
A45: 29 | B45: Маска медична 3-шар на резинці н/ст | C45: шт. | D45: 1,49 | E45: 6969 | F45: 10412.65 | G45: =#REF! -> #REF! | H45: =#REF! -> #REF! | I45: =#REF! -> #REF! | J45: =#REF! -> #REF! | K45: =#REF! -> #REF! | L45: =#REF! -> #REF! | M45: =E45 -> 6969 | N45: =F45 -> 10412.65
...
